BEGIN:VCALENDAR
VERSION:2.0
PRODID:-//wp-events-plugin.com//7.2.3.1//EN
TZID:Europe/London
X-WR-TIMEZONE:Europe/London
BEGIN:VEVENT
UID:691@myropley.org.uk
DTSTART;TZID=Europe/London:20260418T193000
DTEND;TZID=Europe/London:20260418T213000
DTSTAMP:20260217T102117Z
URL:https://www.myropley.org.uk/events/ropley-live-presents-ryan-granger/
SUMMARY:Ropley Live presents Ryan Granger
DESCRIPTION:[caption id="attachment_9192" align="aligncenter" width="640"] 
 Screenshot[/caption]\n\n[pdf-embedder url="https://www.myropley.org.uk/wp-
 content/uploads/2026/02/Poster-Ryan-Granger-final-2.pdf" title="Poster Rya
 n Granger final (2)"]\n\n&nbsp\;\n\nMike Howarth\nRopley Live
CATEGORIES:Standard
LOCATION:Ropley Parish Hall\, Ropley Parish Hall\, Ropley\, Alresford\, Ham
 pshire\, United Kingdom
X-APPLE-STRUCTURED-LOCATION;VALUE=URI;X-ADDRESS=Ropley Parish Hall\, Ropley
 \, Alresford\, Hampshire\, United Kingdom;X-APPLE-RADIUS=100;X-TITLE=Rople
 y Parish Hall:geo:0,0
END:VEVENT
BEGIN:VTIMEZONE
TZID:Europe/London
X-LIC-LOCATION:Europe/London
BEGIN:DAYLIGHT
DTSTART:20260329T020000
TZOFFSETFROM:+0000
TZOFFSETTO:+0100
TZNAME:BST
END:DAYLIGHT
END:VTIMEZONE
END:VCALENDAR