BEGIN:VCALENDAR
VERSION:2.0
PRODID:-//wp-events-plugin.com//7.2.3.1//EN
TZID:Europe/London
X-WR-TIMEZONE:Europe/London
BEGIN:VEVENT
UID:291@myropley.org.uk
DTSTART;TZID=Europe/London:20250620T193000
DTEND;TZID=Europe/London:20250620T230000
DTSTAMP:20250608T111139Z
URL:https://www.myropley.org.uk/events/ropley-music-nights-presents-dub-pr
 incess-hotsteppas/
SUMMARY:Ropley Music Nights presents Dub Princess & Hotsteppas
DESCRIPTION:\n&nbsp\;\n\nMore details: https://www.facebook.com/ropleymusic
 ?locale=en_GB\nDirect Ticket link: https://www.ticketsource.co.uk/ropleymu
 sicnights\nMusic teaser: https://www.youtube.com/watch?v=ak_HhVUAd3Y\n\nGr
 aham Arnott\n
CATEGORIES:Standard
LOCATION:Ropley Parish Hall\, Ropley Parish Hall\, Ropley\, Alresford\, Ham
 pshire\, United Kingdom
X-APPLE-STRUCTURED-LOCATION;VALUE=URI;X-ADDRESS=Ropley Parish Hall\, Ropley
 \, Alresford\, Hampshire\, United Kingdom;X-APPLE-RADIUS=100;X-TITLE=Rople
 y Parish Hall:geo:0,0
END:VEVENT
BEGIN:VTIMEZONE
TZID:Europe/London
X-LIC-LOCATION:Europe/London
BEGIN:DAYLIGHT
DTSTART:20250330T020000
TZOFFSETFROM:+0000
TZOFFSETTO:+0100
TZNAME:BST
END:DAYLIGHT
END:VTIMEZONE
END:VCALENDAR