BEGIN:VCALENDAR
VERSION:2.0
PRODID:-//wp-events-plugin.com//7.2.3.1//EN
TZID:Europe/London
X-WR-TIMEZONE:Europe/London
BEGIN:VEVENT
UID:10@myropley.org.uk
DTSTART;TZID=Europe/London:20231107T193000
DTEND;TZID=Europe/London:20231107T210000
DTSTAMP:20230817T134005Z
URL:https://www.myropley.org.uk/events/ropley-parish-council-meeting-2023-
 11-07/
SUMMARY:Ropley Parish Council Meeting
DESCRIPTION:Parish Council meetings generally take place on the 1st Tuesday
  of the month.\nThe agenda and related documentation are usually published
  about 1 week before the meeting\, here.
CATEGORIES:Standard
END:VEVENT
BEGIN:VTIMEZONE
TZID:Europe/London
X-LIC-LOCATION:Europe/London
BEGIN:STANDARD
DTSTART:20231029T010000
TZOFFSETFROM:+0100
TZOFFSETTO:+0000
TZNAME:GMT
END:STANDARD
END:VTIMEZONE
END:VCALENDAR