BEGIN:VCALENDAR
VERSION:2.0
PRODID:-//wp-events-plugin.com//7.2.3.1//EN
TZID:Europe/London
X-WR-TIMEZONE:Europe/London
BEGIN:VEVENT
UID:111@myropley.org.uk
DTSTART;TZID=Europe/London:20240528T200000
DTEND;TZID=Europe/London:20240528T210000
DTSTAMP:20240525T114306Z
URL:https://www.myropley.org.uk/events/ropley-parish-hall-agm/
SUMMARY:Ropley Parish Hall AGM
DESCRIPTION:The Ropley Parish Hall Annual General Meeting has been reschedu
 led to Tuesday 28th May at 8pm in the Small Hall of the Parish Hall.\n\nEv
 eryone welcome!\n\nDebbie Raynham
CATEGORIES:Standard
LOCATION:Ropley Parish Hall\, Ropley Parish Hall\, Ropley\, Alresford\, Ham
 pshire\, United Kingdom
X-APPLE-STRUCTURED-LOCATION;VALUE=URI;X-ADDRESS=Ropley Parish Hall\, Ropley
 \, Alresford\, Hampshire\, United Kingdom;X-APPLE-RADIUS=100;X-TITLE=Rople
 y Parish Hall:geo:0,0
END:VEVENT
BEGIN:VTIMEZONE
TZID:Europe/London
X-LIC-LOCATION:Europe/London
BEGIN:DAYLIGHT
DTSTART:20240331T020000
TZOFFSETFROM:+0000
TZOFFSETTO:+0100
TZNAME:BST
END:DAYLIGHT
END:VTIMEZONE
END:VCALENDAR