BEGIN:VCALENDAR
VERSION:2.0
PRODID:-//wp-events-plugin.com//7.2.3.1//EN
TZID:Europe/London
X-WR-TIMEZONE:Europe/London
BEGIN:VEVENT
UID:257@myropley.org.uk
DTSTART;TZID=Europe/London:20250526T100500
DTEND;TZID=Europe/London:20250526T123500
DTSTAMP:20250522T092731Z
URL:https://www.myropley.org.uk/events/ropley-pram-race-2/
SUMMARY:Plant Stall at the Pram Race
DESCRIPTION:Includes:\n\n&nbsp\;\n\n10am start\n\nCome and have fun watchin
 g the Pram Race and buy your plants from our stall!\n\nParking free\n\nLot
 s of other stalls and activities\n\nEnquiries: Jill 01962 772425\n\nFull d
 etails available in the parish magazine!
CATEGORIES:Standard
LOCATION:Ropley Recreation Ground\, Vicarage Lane\, Ropley\, United Kingdom
X-APPLE-STRUCTURED-LOCATION;VALUE=URI;X-ADDRESS=Vicarage Lane\, Ropley\, Un
 ited Kingdom;X-APPLE-RADIUS=100;X-TITLE=Ropley Recreation Ground:geo:0,0
END:VEVENT
BEGIN:VTIMEZONE
TZID:Europe/London
X-LIC-LOCATION:Europe/London
BEGIN:DAYLIGHT
DTSTART:20250330T020000
TZOFFSETFROM:+0000
TZOFFSETTO:+0100
TZNAME:BST
END:DAYLIGHT
END:VTIMEZONE
END:VCALENDAR