BEGIN:VCALENDAR
VERSION:2.0
PRODID:-//wp-events-plugin.com//7.2.3.1//EN
TZID:Europe/London
X-WR-TIMEZONE:Europe/London
BEGIN:VEVENT
UID:107@myropley.org.uk
DTSTART;TZID=Europe/London:20240527T100000
DTEND;TZID=Europe/London:20240527T123000
DTSTAMP:20240509T144343Z
URL:https://www.myropley.org.uk/events/ropley-pram-race/
SUMMARY:Ropley Pram Race
DESCRIPTION:Full details available in the parish magazine!
CATEGORIES:Standard
LOCATION:Ropley Recreation Ground\, Vicarage Lane\, Ropley\, United Kingdom
X-APPLE-STRUCTURED-LOCATION;VALUE=URI;X-ADDRESS=Vicarage Lane\, Ropley\, Un
 ited Kingdom;X-APPLE-RADIUS=100;X-TITLE=Ropley Recreation Ground:geo:0,0
END:VEVENT
BEGIN:VTIMEZONE
TZID:Europe/London
X-LIC-LOCATION:Europe/London
BEGIN:DAYLIGHT
DTSTART:20240331T020000
TZOFFSETFROM:+0000
TZOFFSETTO:+0100
TZNAME:BST
END:DAYLIGHT
END:VTIMEZONE
END:VCALENDAR