BEGIN:VCALENDAR
VERSION:2.0
PRODID:-//wp-events-plugin.com//7.2.3.1//EN
TZID:Europe/London
X-WR-TIMEZONE:Europe/London
BEGIN:VEVENT
UID:605@myropley.org.uk
DTSTART;TZID=Europe/London:20251214T170000
DTEND;TZID=Europe/London:20251214T190000
DTSTAMP:20251001T084511Z
URL:https://www.myropley.org.uk/events/ropley-youth-group-2025-09-07-2025-
 09-14-2025-09-21-2025-09-28-2025-10-05-2025-10-12-2025-10-19-2025-10-26-20
 25-11-02-2025-11-09-2025-11-16-2025-11-23-2025-11-30-2025-12-07-2025-12-14
 /
SUMMARY:Ropley Youth Group
DESCRIPTION:[pdf-embedder url="https://www.myropley.org.uk/wp-content/uploa
 ds/2025/09/RYG-2025-1.pdf" title="RYG 2025 (1)"]\n\nRevd Amber Beresford
CATEGORIES:Standard
LOCATION:St Peter's Church\, St Peter's Church\, Ropley\, Alresford\, Hamps
 hire\, United Kingdom
X-APPLE-STRUCTURED-LOCATION;VALUE=URI;X-ADDRESS=St Peter's Church\, Ropley\
 , Alresford\, Hampshire\, United Kingdom;X-APPLE-RADIUS=100;X-TITLE=St Pet
 er's Church:geo:0,0
END:VEVENT
BEGIN:VTIMEZONE
TZID:Europe/London
X-LIC-LOCATION:Europe/London
BEGIN:STANDARD
DTSTART:20251026T010000
TZOFFSETFROM:+0100
TZOFFSETTO:+0000
TZNAME:GMT
END:STANDARD
END:VTIMEZONE
END:VCALENDAR