BEGIN:VCALENDAR
VERSION:2.0
PRODID:-//wp-events-plugin.com//7.2.3.1//EN
TZID:Europe/London
X-WR-TIMEZONE:Europe/London
BEGIN:VEVENT
UID:215@myropley.org.uk
DTSTART;TZID=Europe/London:20241107T193000
DTEND;TZID=Europe/London:20241107T213000
DTSTAMP:20241014T175550Z
URL:https://www.myropley.org.uk/events/secrets-of-the-ropley-soil-case-his
 tories-of-a-detectorist-detective/
SUMMARY:Secrets of the Ropley soil: Case Histories of a Detectorist Detecti
 ve
DESCRIPTION:\n\n\nCarole Oldham
CATEGORIES:Standard
LOCATION:Ropley Parish Hall\, Ropley Parish Hall\, Ropley\, Alresford\, Ham
 pshire\, United Kingdom
X-APPLE-STRUCTURED-LOCATION;VALUE=URI;X-ADDRESS=Ropley Parish Hall\, Ropley
 \, Alresford\, Hampshire\, United Kingdom;X-APPLE-RADIUS=100;X-TITLE=Rople
 y Parish Hall:geo:0,0
END:VEVENT
BEGIN:VTIMEZONE
TZID:Europe/London
X-LIC-LOCATION:Europe/London
BEGIN:STANDARD
DTSTART:20241027T010000
TZOFFSETFROM:+0100
TZOFFSETTO:+0000
TZNAME:GMT
END:STANDARD
END:VTIMEZONE
END:VCALENDAR