BEGIN:VCALENDAR
VERSION:2.0
PRODID:-//wp-events-plugin.com//7.2.3.1//EN
TZID:Europe/London
X-WR-TIMEZONE:Europe/London
BEGIN:VEVENT
UID:14@myropley.org.uk
DTSTART;TZID=Europe/London:20231102T123000
DTEND;TZID=Europe/London:20231102T140000
DTSTAMP:20230819T091655Z
URL:https://www.myropley.org.uk/events/soup-lunch/
SUMMARY:Soup and Pudding Lunch
DESCRIPTION:Friends of St Peter’s\nSAVE THE DATE!\nOur biannual soup lunc
 h will be taking place on\nThursday 2nd November 12:30 - 2pm\nAt the Paris
 h Hall\nDo join us at what is always an enjoyable event.\nTickets £10 ava
 ilable from the Courtyard Shop and Alison Wood (01962 773603).\n&nbsp\;
CATEGORIES:Standard
LOCATION:Ropley Parish Hall\, Ropley Parish Hall\, Ropley\, Alresford\, Ham
 pshire\, United Kingdom
X-APPLE-STRUCTURED-LOCATION;VALUE=URI;X-ADDRESS=Ropley Parish Hall\, Ropley
 \, Alresford\, Hampshire\, United Kingdom;X-APPLE-RADIUS=100;X-TITLE=Rople
 y Parish Hall:geo:0,0
END:VEVENT
BEGIN:VTIMEZONE
TZID:Europe/London
X-LIC-LOCATION:Europe/London
BEGIN:STANDARD
DTSTART:20231029T010000
TZOFFSETFROM:+0100
TZOFFSETTO:+0000
TZNAME:GMT
END:STANDARD
END:VTIMEZONE
END:VCALENDAR