BEGIN:VCALENDAR
VERSION:2.0
PRODID:-//wp-events-plugin.com//7.2.3.1//EN
TZID:Europe/London
X-WR-TIMEZONE:Europe/London
BEGIN:VEVENT
UID:295@myropley.org.uk
DTSTART;TZID=Europe/London:20250712T130000
DTEND;TZID=Europe/London:20250712T210000
DTSTAMP:20250628T130117Z
URL:https://www.myropley.org.uk/events/summer-fun-raising-event/
SUMMARY:Summer Fun Raising Event
DESCRIPTION:&nbsp\;\n\n&nbsp\;\n\nMike Seaton
CATEGORIES:Standard
LOCATION:Ropley Sports Pavilion\, Vicarage Lane \, Ropley\, SO24 0DJ\, Unit
 ed Kingdom
X-APPLE-STRUCTURED-LOCATION;VALUE=URI;X-ADDRESS=Vicarage Lane \, Ropley\, S
 O24 0DJ\, United Kingdom;X-APPLE-RADIUS=100;X-TITLE=Ropley Sports Pavilion
 :geo:0,0
END:VEVENT
BEGIN:VTIMEZONE
TZID:Europe/London
X-LIC-LOCATION:Europe/London
BEGIN:DAYLIGHT
DTSTART:20250330T020000
TZOFFSETFROM:+0000
TZOFFSETTO:+0100
TZNAME:BST
END:DAYLIGHT
END:VTIMEZONE
END:VCALENDAR