BEGIN:VCALENDAR
VERSION:2.0
PRODID:-//wp-events-plugin.com//7.2.3.1//EN
TZID:Europe/London
X-WR-TIMEZONE:Europe/London
BEGIN:VEVENT
UID:669@myropley.org.uk
DTSTART;TZID=Europe/London:20260227T190000
DTEND;TZID=Europe/London:20260227T224500
DTSTAMP:20260131T181113Z
URL:https://www.myropley.org.uk/events/supper-club/
SUMMARY:Supper Club
DESCRIPTION:\nBack by popular demand\, Janie &amp\; Susie will be cooking u
 p a feast at St Peter’s Ropley on Friday 27 February from 7pm- 10.45pm.\
 nEnjoy 3 courses\, welcome drinks and canapés.\nCash bar available on the
  night. Tickets £68.50pp.\nJoya Logan
CATEGORIES:Standard
LOCATION:St Peter's Church\, St Peter's Church\, Ropley\, Alresford\, Hamps
 hire\, United Kingdom
X-APPLE-STRUCTURED-LOCATION;VALUE=URI;X-ADDRESS=St Peter's Church\, Ropley\
 , Alresford\, Hampshire\, United Kingdom;X-APPLE-RADIUS=100;X-TITLE=St Pet
 er's Church:geo:0,0
END:VEVENT
BEGIN:VTIMEZONE
TZID:Europe/London
X-LIC-LOCATION:Europe/London
BEGIN:STANDARD
DTSTART:20251026T010000
TZOFFSETFROM:+0100
TZOFFSETTO:+0000
TZNAME:GMT
END:STANDARD
END:VTIMEZONE
END:VCALENDAR