BEGIN:VCALENDAR
VERSION:2.0
PRODID:-//wp-events-plugin.com//7.2.3.1//EN
TZID:Europe/London
X-WR-TIMEZONE:Europe/London
BEGIN:VEVENT
UID:155@myropley.org.uk
DTSTART;TZID=Europe/London:20240930T194500
DTEND;TZID=Europe/London:20240930T211500
DTSTAMP:20240910T090949Z
URL:https://www.myropley.org.uk/events/talk-using-perennials-in-a-mixed-bo
 rder-with-rosy-hardy/
SUMMARY:Talk & Demonstration "Using Perennials in a Mixed Border" by Rosy H
 ardy
DESCRIPTION:\n&nbsp\;\nRosy will bring a selection of plants for sale\n&nbs
 p\;\n\n&nbsp\;\n
CATEGORIES:Standard
LOCATION:Ropley Parish Hall\, Ropley Parish Hall\, Ropley\, Alresford\, Ham
 pshire\, United Kingdom
X-APPLE-STRUCTURED-LOCATION;VALUE=URI;X-ADDRESS=Ropley Parish Hall\, Ropley
 \, Alresford\, Hampshire\, United Kingdom;X-APPLE-RADIUS=100;X-TITLE=Rople
 y Parish Hall:geo:0,0
END:VEVENT
BEGIN:VTIMEZONE
TZID:Europe/London
X-LIC-LOCATION:Europe/London
BEGIN:DAYLIGHT
DTSTART:20240331T020000
TZOFFSETFROM:+0000
TZOFFSETTO:+0100
TZNAME:BST
END:DAYLIGHT
END:VTIMEZONE
END:VCALENDAR