BEGIN:VCALENDAR
VERSION:2.0
PRODID:-//wp-events-plugin.com//7.2.3.1//EN
TZID:Europe/London
X-WR-TIMEZONE:Europe/London
BEGIN:VEVENT
UID:511@myropley.org.uk
DTSTART;TZID=Europe/London:20250925T193000
DTEND;TZID=Europe/London:20250925T213000
DTSTAMP:20250813T141417Z
URL:https://www.myropley.org.uk/events/the-alternative-royal-history-of-wi
 nchester/
SUMMARY:The Alternative Royal History of Winchester
DESCRIPTION:[flipbook pdf="https://www.myropley.org.uk/wp-content/uploads/2
 025/08/The-Alternative-Royal-History-of-Winchester-Talk-Sep-25.pdf" theme=
 "light" width="100%" height="1200"]\n\nCarole Oldham
CATEGORIES:Standard
LOCATION:Ropley Parish Hall\, Ropley Parish Hall\, Ropley\, Alresford\, Ham
 pshire\, United Kingdom
X-APPLE-STRUCTURED-LOCATION;VALUE=URI;X-ADDRESS=Ropley Parish Hall\, Ropley
 \, Alresford\, Hampshire\, United Kingdom;X-APPLE-RADIUS=100;X-TITLE=Rople
 y Parish Hall:geo:0,0
END:VEVENT
BEGIN:VTIMEZONE
TZID:Europe/London
X-LIC-LOCATION:Europe/London
BEGIN:DAYLIGHT
DTSTART:20250330T020000
TZOFFSETFROM:+0000
TZOFFSETTO:+0100
TZNAME:BST
END:DAYLIGHT
END:VTIMEZONE
END:VCALENDAR