BEGIN:VCALENDAR
VERSION:2.0
PRODID:-//wp-events-plugin.com//7.2.3.1//EN
TZID:Europe/London
X-WR-TIMEZONE:Europe/London
BEGIN:VEVENT
UID:217@myropley.org.uk
DTSTART;TZID=Europe/London:20241122T190000
DTEND;TZID=Europe/London:20241122T210000
DTSTAMP:20241029T175505Z
URL:https://www.myropley.org.uk/events/the-great-ropley-sports-club-quiz-n
 ight/
SUMMARY:THE GREAT ROPLEY SPORTS CLUB QUIZ NIGHT
DESCRIPTION:TABLES GOING FAST!\nTICKET ONLY EVENT\nDoors Open 7.00pm\nMembe
 rs Discount Price £12. Non Members £15\nTables of 6 Available\nThe 12th 
 edition of this ever-popular quiz night\, including the tasty fish supper\
 , full bar with table service and raffle.\nProbably the best quiz night yo
 u'll go to this month.\nContact Nicky at The Courtyard-Post Office or nick
 ydennis@icloud.com for tickets.\nSee WHATS ON\, MEMBERSHIP DETAILS &amp\; 
 CALENDER OF EVENTS @ www.ropleysportsclub.com\n&nbsp\;\n\nMike Seaton
CATEGORIES:Standard
LOCATION:Ropley Sports Pavilion\, Vicarage Lane \, Ropley\, SO24 0DJ\, Unit
 ed Kingdom
X-APPLE-STRUCTURED-LOCATION;VALUE=URI;X-ADDRESS=Vicarage Lane \, Ropley\, S
 O24 0DJ\, United Kingdom;X-APPLE-RADIUS=100;X-TITLE=Ropley Sports Pavilion
 :geo:0,0
END:VEVENT
BEGIN:VTIMEZONE
TZID:Europe/London
X-LIC-LOCATION:Europe/London
BEGIN:STANDARD
DTSTART:20241027T010000
TZOFFSETFROM:+0100
TZOFFSETTO:+0000
TZNAME:GMT
END:STANDARD
END:VTIMEZONE
END:VCALENDAR