BEGIN:VCALENDAR
VERSION:2.0
PRODID:-//wp-events-plugin.com//7.2.3.1//EN
TZID:Europe/London
X-WR-TIMEZONE:Europe/London
BEGIN:VEVENT
UID:666@myropley.org.uk
DTSTART;TZID=Europe/London:20251205T190000
DTEND;TZID=Europe/London:20251205T220000
DTSTAMP:20251013T113457Z
URL:https://www.myropley.org.uk/events/the-great-ropley-sports-club-quiz/
SUMMARY:The Great Ropley Sports Club Quiz
DESCRIPTION:\nKay Betts
CATEGORIES:Standard
LOCATION:Ropley Sports Pavilion\, Vicarage Lane \, Ropley\, SO24 0DJ\, Unit
 ed Kingdom
X-APPLE-STRUCTURED-LOCATION;VALUE=URI;X-ADDRESS=Vicarage Lane \, Ropley\, S
 O24 0DJ\, United Kingdom;X-APPLE-RADIUS=100;X-TITLE=Ropley Sports Pavilion
 :geo:0,0
END:VEVENT
BEGIN:VTIMEZONE
TZID:Europe/London
X-LIC-LOCATION:Europe/London
BEGIN:STANDARD
DTSTART:20251026T010000
TZOFFSETFROM:+0100
TZOFFSETTO:+0000
TZNAME:GMT
END:STANDARD
END:VTIMEZONE
END:VCALENDAR