BEGIN:VCALENDAR
VERSION:2.0
PRODID:-//wp-events-plugin.com//7.2.3.1//EN
TZID:Europe/London
X-WR-TIMEZONE:Europe/London
BEGIN:VEVENT
UID:362@myropley.org.uk
DTSTART;TZID=Europe/London:20251004T190000
DTEND;TZID=Europe/London:20251004T210000
DTSTAMP:20250829T150824Z
URL:https://www.myropley.org.uk/events/the-jane-austen-songbook/
SUMMARY:The Jane Austen Songbook
DESCRIPTION:[pdf-embedder url="https://www.myropley.org.uk/wp-content/uploa
 ds/2025/08/Jane-Austen-print.pdf" title="Jane Austen Songbook flyer colour
 "]\n\nTHE JANE AUSTEN SONGBOOK – 4 OCTOBER\, ST PETER’S\n\nOn Saturday
  4 October at 7.00pm in St Peter’s Church Ropley\, the Hampshire communi
 ty will be treated to a very special concert to celebrate the 250th annive
 rsary of Jane Austen’s birth. Heading the bill will be internationally r
 enowned soprano Susan Gritton. Susan has sung many a leading role in most 
 of the world’s top opera houses\, including The Grange. Eleanor Medcalf\
 , up-and-coming harpist and Jane Austen expert\, will be accompanying Susa
 n in the concert in songs well known by Jane Austen.\n\nJoining the sopran
 o &amp\; harp duo will be the Choir from Perins School\, Alresford. With s
 uch a strong performing arts tradition at this fabulous secondary school\,
  it was a huge opportunity to give these talented pupils a chance to sing 
 alongside a famous singer. Together they will performing a world première
  – a new setting of a prayer by Jane Austen\, by Ropley-based composer P
 eter Gritton.\n\nInterspersed between songs will be readings from Jane Aus
 ten’s letters and novels\, delivered by Henrietta Garden (Vera Gissing i
 n One Life) and James Larkin (Master Treasurer Fitzwilliam in Wolf Hall). 
 Two illustrious screen actors – also Ropley residents!\n\nTickets can be
  bought for The Jane Austen Songbook performance on the church website. ww
 w.stpetersropleyvenue.org.uk\n\n\n\n&nbsp\;\n\nJules Flory
CATEGORIES:Standard
LOCATION:St Peter's Church\, St Peter's Church\, Ropley\, Alresford\, Hamps
 hire\, United Kingdom
X-APPLE-STRUCTURED-LOCATION;VALUE=URI;X-ADDRESS=St Peter's Church\, Ropley\
 , Alresford\, Hampshire\, United Kingdom;X-APPLE-RADIUS=100;X-TITLE=St Pet
 er's Church:geo:0,0
END:VEVENT
BEGIN:VTIMEZONE
TZID:Europe/London
X-LIC-LOCATION:Europe/London
BEGIN:DAYLIGHT
DTSTART:20250330T020000
TZOFFSETFROM:+0000
TZOFFSETTO:+0100
TZNAME:BST
END:DAYLIGHT
END:VTIMEZONE
END:VCALENDAR