BEGIN:VCALENDAR
VERSION:2.0
PRODID:-//wp-events-plugin.com//7.2.3.1//EN
TZID:Europe/London
X-WR-TIMEZONE:Europe/London
BEGIN:VEVENT
UID:109@myropley.org.uk
DTSTART;TZID=Europe/London:20240714T190000
DTEND;TZID=Europe/London:20240714T201500
DTSTAMP:20240706T091301Z
URL:https://www.myropley.org.uk/events/the-ropley-kings-singers-summer-con
 cert/
SUMMARY:The Ropley King's Singers Summer Concert
DESCRIPTION:\n\n\n\n\n\nTickets from stpetersropleyvenue.org.uk  £15 to i
 nclude a welcome drink &amp\; concert programme.\n\nSally Palmer\n\n
CATEGORIES:Standard
LOCATION:St Peter's Church\, St Peter's Church\, Ropley\, Alresford\, Hamps
 hire\, United Kingdom
X-APPLE-STRUCTURED-LOCATION;VALUE=URI;X-ADDRESS=St Peter's Church\, Ropley\
 , Alresford\, Hampshire\, United Kingdom;X-APPLE-RADIUS=100;X-TITLE=St Pet
 er's Church:geo:0,0
END:VEVENT
BEGIN:VTIMEZONE
TZID:Europe/London
X-LIC-LOCATION:Europe/London
BEGIN:DAYLIGHT
DTSTART:20240331T020000
TZOFFSETFROM:+0000
TZOFFSETTO:+0100
TZNAME:BST
END:DAYLIGHT
END:VTIMEZONE
END:VCALENDAR