BEGIN:VCALENDAR
VERSION:2.0
PRODID:-//wp-events-plugin.com//7.2.3.1//EN
TZID:Europe/London
X-WR-TIMEZONE:Europe/London
BEGIN:VEVENT
UID:131@myropley.org.uk
DTSTART;TZID=Europe/London:20240615T193000
DTEND;TZID=Europe/London:20240615T213000
DTSTAMP:20240609T130806Z
URL:https://www.myropley.org.uk/events/the-rudes-in-ropley-with-the-dressi
 ng-book/
SUMMARY:The Rudes in Ropley with "The Dressing Book"
DESCRIPTION:The Rudes will be in Ropley Saturday 15th June on The Recreatio
 n Ground.\nPicnics from 6pm\, show starts at 7.30pm.\nTickets available fr
 om: www.therudes.co.uk or at the Box Office on the night.\n
CATEGORIES:Standard
LOCATION:Ropley Recreation Ground\, Vicarage Lane\, Ropley\, United Kingdom
X-APPLE-STRUCTURED-LOCATION;VALUE=URI;X-ADDRESS=Vicarage Lane\, Ropley\, Un
 ited Kingdom;X-APPLE-RADIUS=100;X-TITLE=Ropley Recreation Ground:geo:0,0
END:VEVENT
BEGIN:VTIMEZONE
TZID:Europe/London
X-LIC-LOCATION:Europe/London
BEGIN:DAYLIGHT
DTSTART:20240331T020000
TZOFFSETFROM:+0000
TZOFFSETTO:+0100
TZNAME:BST
END:DAYLIGHT
END:VTIMEZONE
END:VCALENDAR