BEGIN:VCALENDAR
VERSION:2.0
PRODID:-//wp-events-plugin.com//7.2.3.1//EN
TZID:Europe/London
X-WR-TIMEZONE:Europe/London
BEGIN:VEVENT
UID:94@myropley.org.uk
DTSTART;TZID=Europe/London:20241204T100000
DTEND;TZID=Europe/London:20241204T120000
DTSTAMP:20240214T101620Z
URL:https://www.myropley.org.uk/events/wednesday-board-games-2024-12-04/
SUMMARY:Wednesday Board Games
DESCRIPTION:
CATEGORIES:Standard
LOCATION:St Peter's Church\, Church St\, Ropley\, United Kingdom
X-APPLE-STRUCTURED-LOCATION;VALUE=URI;X-ADDRESS=Church St\, Ropley\, United
  Kingdom;X-APPLE-RADIUS=100;X-TITLE=St Peter's Church:geo:0,0
END:VEVENT
BEGIN:VTIMEZONE
TZID:Europe/London
X-LIC-LOCATION:Europe/London
BEGIN:STANDARD
DTSTART:20241027T010000
TZOFFSETFROM:+0100
TZOFFSETTO:+0000
TZNAME:GMT
END:STANDARD
END:VTIMEZONE
END:VCALENDAR