BEGIN:VCALENDAR
VERSION:2.0
PRODID:-//wp-events-plugin.com//7.2.3.1//EN
TZID:Europe/London
X-WR-TIMEZONE:Europe/London
BEGIN:VEVENT
UID:135@myropley.org.uk
DTSTART;TZID=Europe/London:20240907T193000
DTEND;TZID=Europe/London:20240907T211500
DTSTAMP:20240806T170605Z
URL:https://www.myropley.org.uk/events/wicked-little-letters-moviola/
SUMMARY:Cinema at Ropley - Wicked Little Letters
DESCRIPTION:\n\nWatch Wicked Little Letters trailer at\n https://www.youtu
 be.com/watch?v=SeTeCWbF8KY\n\n&nbsp\;\n\nSarah Flook\nRopley Film Society
CATEGORIES:Standard
LOCATION:Ropley Parish Hall\, Ropley Parish Hall\, Ropley\, Alresford\, Ham
 pshire\, United Kingdom
X-APPLE-STRUCTURED-LOCATION;VALUE=URI;X-ADDRESS=Ropley Parish Hall\, Ropley
 \, Alresford\, Hampshire\, United Kingdom;X-APPLE-RADIUS=100;X-TITLE=Rople
 y Parish Hall:geo:0,0
END:VEVENT
BEGIN:VTIMEZONE
TZID:Europe/London
X-LIC-LOCATION:Europe/London
BEGIN:DAYLIGHT
DTSTART:20240331T020000
TZOFFSETFROM:+0000
TZOFFSETTO:+0100
TZNAME:BST
END:DAYLIGHT
END:VTIMEZONE
END:VCALENDAR