BEGIN:VCALENDAR
VERSION:2.0
PRODID:-//wp-events-plugin.com//7.2.3.1//EN
TZID:Europe/London
X-WR-TIMEZONE:Europe/London
BEGIN:VEVENT
UID:524@myropley.org.uk
DTSTART;TZID=Europe/London:20251106T190000
DTEND;TZID=Europe/London:20251106T200000
DTSTAMP:20250813T143919Z
URL:https://www.myropley.org.uk/events/yoga-class-2025-09-04-2025-09-11-20
 25-09-18-2025-09-25-2025-10-02-2025-10-09-2025-10-16-2025-10-23-2025-10-30
 -2025-11-06/
SUMMARY:Yoga Class
DESCRIPTION:[pdf-embedder url="https://www.myropley.org.uk/wp-content/uploa
 ds/2025/08/YogaAtStPetersSept25_20250811_173312_0000.pdf"]\n\n&nbsp\;\n\nJ
 ules Flory
CATEGORIES:Standard
LOCATION:St Peter's Church\, St Peter's Church\, Ropley\, Alresford\, Hamps
 hire\, United Kingdom
X-APPLE-STRUCTURED-LOCATION;VALUE=URI;X-ADDRESS=St Peter's Church\, Ropley\
 , Alresford\, Hampshire\, United Kingdom;X-APPLE-RADIUS=100;X-TITLE=St Pet
 er's Church:geo:0,0
END:VEVENT
BEGIN:VTIMEZONE
TZID:Europe/London
X-LIC-LOCATION:Europe/London
BEGIN:STANDARD
DTSTART:20251026T010000
TZOFFSETFROM:+0100
TZOFFSETTO:+0000
TZNAME:GMT
END:STANDARD
END:VTIMEZONE
END:VCALENDAR